BEGIN:VCALENDAR
VERSION:2.0
PRODID:-//Devpost\, Inc.//Bot To Agent by MLH Hack Days//EN
CALSCALE:GREGORIAN
BEGIN:VTIMEZONE
TZID:Asia/Kolkata
BEGIN:STANDARD
DTSTART:19451014T230000
TZOFFSETFROM:+0630
TZOFFSETTO:+0530
TZNAME:IST
END:STANDARD
END:VTIMEZONE
BEGIN:VEVENT
DTSTAMP:20260420T212957Z
UID:c1854e15-6ace-4566-aeb9-e38607bc9064
DTSTART;TZID=Asia/Kolkata:20260427T093000
DTEND;TZID=Asia/Kolkata:20260427T160000
DESCRIPTION:https://bot-to-agent-by-mlh-hack-days.devpost.com/
LOCATION:IEM Ashram Building\, GN-34/2\, Street Number 27\, opposite to Nal
 ban Saltlake Electronics Complex\, GN Block\, Sector V\, Bidhannagar\, Kol
 kata\, West Bengal 700091\, India
SUMMARY:Bot To Agent by MLH Hack Days
BEGIN:VALARM
ACTION:DISPLAY
TRIGGER:-P3D
SUMMARY:Get ready\, the hacking starts in 3 days.
END:VALARM
END:VEVENT
END:VCALENDAR
